Package: makecdfenv Version: 1.83.1 Command: rm -rf makecdfenv.buildbin-libdir && mkdir makecdfenv.buildbin-libdir && /Users/biocbuild/BBS/utils/build-universal.sh makecdfenv_1.83.1.tar.gz /Library/Frameworks/R.framework/Resources/bin/R makecdfenv.buildbin-libdir StartedAt: 2025-02-20 22:24:13 -0500 (Thu, 20 Feb 2025) EndedAt: 2025-02-20 22:24:18 -0500 (Thu, 20 Feb 2025) EllapsedTime: 5.1 seconds RetCode: 0 Status: OK PackageFile: makecdfenv_1.83.1.tgz PackageFileSize: 3.423 MiB