Package: magrene Version: 1.11.0 Command: /home/biocbuild/bbs-3.22-bioc/R/bin/R CMD INSTALL magrene StartedAt: 2025-10-12 15:04:20 -0400 (Sun, 12 Oct 2025) EndedAt: 2025-10-12 15:04:48 -0400 (Sun, 12 Oct 2025) EllapsedTime: 28.0 seconds RetCode: 0 Status: OK