Package: magrene Version: 1.11.0 Command: rm -rf magrene.buildbin-libdir && mkdir magrene.buildbin-libdir && /Users/biocbuild/BBS/utils/build-universal.sh magrene_1.11.0.tar.gz /Library/Frameworks/R.framework/Resources/bin/R magrene.buildbin-libdir StartedAt: 2025-10-11 02:37:11 -0400 (Sat, 11 Oct 2025) EndedAt: 2025-10-11 02:37:20 -0400 (Sat, 11 Oct 2025) EllapsedTime: 8.2 seconds RetCode: 0 Status: OK PackageFile: magrene_1.11.0.tgz PackageFileSize: 2.189 MiB