Package: magpie Version: 1.9.0 Command: chmod a+r magpie -R && F:\biocbuild\bbs-3.22-bioc\R\bin\R.exe CMD build --keep-empty-dirs --no-resave-data magpie StartedAt: 2025-08-14 21:11:21 -0400 (Thu, 14 Aug 2025) EndedAt: 2025-08-14 21:12:44 -0400 (Thu, 14 Aug 2025) EllapsedTime: 83.3 seconds RetCode: 0 Status: OK PackageFile: magpie_1.9.0.tar.gz PackageFileSize: 1.539 MiB