Package: magpie Version: 1.9.0 Command: /home/biocbuild/bbs-3.22-bioc/R/bin/R CMD INSTALL magpie StartedAt: 2025-10-03 15:38:30 -0400 (Fri, 03 Oct 2025) EndedAt: 2025-10-03 15:39:09 -0400 (Fri, 03 Oct 2025) EllapsedTime: 39.4 seconds RetCode: 0 Status: OK