Package: magpie Version: 1.9.0 Command: /home/biocbuild/bbs-3.22-bioc/R/bin/R CMD build --keep-empty-dirs --no-resave-data --md5 magpie StartedAt: 2025-10-03 18:23:12 -0400 (Fri, 03 Oct 2025) EndedAt: 2025-10-03 18:24:09 -0400 (Fri, 03 Oct 2025) EllapsedTime: 57.1 seconds RetCode: 0 Status: OK PackageFile: magpie_1.9.0.tar.gz PackageFileSize: 2.249 MiB