Package: magpie Version: 1.7.0 Command: /home/biocbuild/bbs-3.21-bioc/R/bin/R CMD INSTALL magpie StartedAt: 2025-02-02 15:52:09 -0500 (Sun, 02 Feb 2025) EndedAt: 2025-02-02 15:52:49 -0500 (Sun, 02 Feb 2025) EllapsedTime: 39.4 seconds RetCode: 0 Status: OK