Package: magpie Version: 1.7.0 Command: /Library/Frameworks/R.framework/Resources/bin/R CMD INSTALL magpie StartedAt: 2025-02-02 15:39:58 -0500 (Sun, 02 Feb 2025) EndedAt: 2025-02-02 15:40:48 -0500 (Sun, 02 Feb 2025) EllapsedTime: 50.4 seconds RetCode: 0 Status: OK