Package: magpie Version: 1.7.0 Command: /Library/Frameworks/R.framework/Resources/bin/R CMD check --install=check:magpie.install-out.txt --library=/Library/Frameworks/R.framework/Resources/library --no-vignettes --timings magpie_1.7.0.tar.gz StartedAt: 2025-02-02 21:18:05 -0500 (Sun, 02 Feb 2025) EndedAt: 2025-02-02 21:22:45 -0500 (Sun, 02 Feb 2025) EllapsedTime: 280.9 seconds RetCode: 0 Status: WARNINGS CheckDir: magpie.Rcheck Warnings: 1