Package: magpie Version: 1.7.0 Command: rm -rf magpie.buildbin-libdir && mkdir magpie.buildbin-libdir && /Users/biocbuild/BBS/utils/build-universal.sh magpie_1.7.0.tar.gz /Library/Frameworks/R.framework/Resources/bin/R magpie.buildbin-libdir StartedAt: 2025-02-03 00:30:17 -0500 (Mon, 03 Feb 2025) EndedAt: 2025-02-03 00:31:11 -0500 (Mon, 03 Feb 2025) EllapsedTime: 54.4 seconds RetCode: 0 Status: OK PackageFile: magpie_1.7.0.tgz PackageFileSize: 2.113 MiB