Package: magpie Version: 1.9.0 Command: rm -rf magpie.buildbin-libdir && mkdir magpie.buildbin-libdir && /Users/biocbuild/BBS/utils/build-universal.sh magpie_1.9.0.tar.gz /Library/Frameworks/R.framework/Resources/bin/R magpie.buildbin-libdir StartedAt: 2025-05-07 23:00:35 -0400 (Wed, 07 May 2025) EndedAt: 2025-05-07 23:00:54 -0400 (Wed, 07 May 2025) EllapsedTime: 19.5 seconds RetCode: 0 Status: OK PackageFile: magpie_1.9.0.tgz PackageFileSize: 2.113 MiB