Package: made4 Version: 1.83.0 Command: /Library/Frameworks/R.framework/Resources/bin/R CMD check --install=check:made4.install-out.txt --library=/Library/Frameworks/R.framework/Resources/library --no-vignettes --timings made4_1.83.0.tar.gz StartedAt: 2025-05-26 21:44:36 -0400 (Mon, 26 May 2025) EndedAt: 2025-05-26 21:47:30 -0400 (Mon, 26 May 2025) EllapsedTime: 173.6 seconds RetCode: 0 Status: OK CheckDir: made4.Rcheck Warnings: 0