Package: maaslin3 Version: 0.99.4 Command: E:\biocbuild\bbs-3.21-bioc\R\bin\R.exe CMD INSTALL maaslin3 StartedAt: 2025-02-05 16:37:15 -0500 (Wed, 05 Feb 2025) EndedAt: 2025-02-05 16:37:59 -0500 (Wed, 05 Feb 2025) EllapsedTime: 43.8 seconds RetCode: 0 Status: OK