Package: maaslin3 Version: 0.99.4 Command: E:\biocbuild\bbs-3.21-bioc\R\bin\R.exe CMD check --no-multiarch --install=check:maaslin3.install-out.txt --library=E:\biocbuild\bbs-3.21-bioc\R\library --no-vignettes --timings maaslin3_0.99.4.tar.gz StartedAt: 2025-02-06 02:58:54 -0500 (Thu, 06 Feb 2025) EndedAt: 2025-02-06 03:09:44 -0500 (Thu, 06 Feb 2025) EllapsedTime: 649.4 seconds RetCode: 0 Status: OK CheckDir: maaslin3.Rcheck Warnings: 0