Package: maaslin3 Version: 1.1.0 Command: /home/biocbuild/bbs-3.22-bioc/R/bin/R CMD INSTALL maaslin3 StartedAt: 2025-10-07 15:29:23 -0400 (Tue, 07 Oct 2025) EndedAt: 2025-10-07 15:29:55 -0400 (Tue, 07 Oct 2025) EllapsedTime: 32.0 seconds RetCode: 0 Status: OK