Package: maaslin3 Version: 1.1.0 Command: /home/biocbuild/bbs-3.22-bioc/R/bin/R CMD build --keep-empty-dirs --no-resave-data --md5 maaslin3 StartedAt: 2025-10-07 18:26:50 -0400 (Tue, 07 Oct 2025) EndedAt: 2025-10-07 18:29:13 -0400 (Tue, 07 Oct 2025) EllapsedTime: 143.2 seconds RetCode: 1 Status: ERROR PackageFile: None PackageFileSize: NA