Package: maaslin3 Version: 0.99.4 Command: /Library/Frameworks/R.framework/Resources/bin/R CMD check --install=check:maaslin3.install-out.txt --library=/Library/Frameworks/R.framework/Resources/library --no-vignettes --timings maaslin3_0.99.4.tar.gz StartedAt: 2025-02-05 21:21:54 -0500 (Wed, 05 Feb 2025) EndedAt: 2025-02-05 21:31:09 -0500 (Wed, 05 Feb 2025) EllapsedTime: 554.3 seconds RetCode: 0 Status: OK CheckDir: maaslin3.Rcheck Warnings: 0