Package: maaslin3 Version: 0.99.4 Command: rm -rf maaslin3.buildbin-libdir && mkdir maaslin3.buildbin-libdir && /Users/biocbuild/BBS/utils/build-universal.sh maaslin3_0.99.4.tar.gz /Library/Frameworks/R.framework/Resources/bin/R maaslin3.buildbin-libdir StartedAt: 2025-02-05 22:24:25 -0500 (Wed, 05 Feb 2025) EndedAt: 2025-02-05 22:24:38 -0500 (Wed, 05 Feb 2025) EllapsedTime: 13.3 seconds RetCode: 0 Status: OK PackageFile: maaslin3_0.99.4.tgz PackageFileSize: 1.524 MiB