Package: maSigPro Version: 1.81.0 Command: /home/biocbuild/bbs-3.22-bioc/R/bin/R CMD build --keep-empty-dirs --no-resave-data --md5 maSigPro StartedAt: 2025-10-03 18:25:27 -0400 (Fri, 03 Oct 2025) EndedAt: 2025-10-03 18:25:34 -0400 (Fri, 03 Oct 2025) EllapsedTime: 7.0 seconds RetCode: 0 Status: OK PackageFile: maSigPro_1.81.0.tar.gz PackageFileSize: 1.514 MiB