Package: maPredictDSC Version: 1.45.0 Command: chmod a+r maPredictDSC -R && E:\biocbuild\bbs-3.21-bioc\R\bin\R.exe CMD build --keep-empty-dirs --no-resave-data maPredictDSC StartedAt: 2025-02-05 19:43:50 -0500 (Wed, 05 Feb 2025) EndedAt: 2025-02-05 19:47:25 -0500 (Wed, 05 Feb 2025) EllapsedTime: 215.2 seconds RetCode: 0 Status: OK PackageFile: maPredictDSC_1.45.0.tar.gz PackageFileSize: 100.4 KiB