Package: maPredictDSC Version: 1.45.0 Command: /home/biocbuild/bbs-3.21-bioc/R/bin/R CMD INSTALL maPredictDSC StartedAt: 2025-02-05 15:25:15 -0500 (Wed, 05 Feb 2025) EndedAt: 2025-02-05 15:25:37 -0500 (Wed, 05 Feb 2025) EllapsedTime: 22.0 seconds RetCode: 0 Status: OK