Package: maPredictDSC Version: 1.45.0 Command: /Library/Frameworks/R.framework/Resources/bin/R CMD INSTALL maPredictDSC StartedAt: 2025-02-02 15:35:29 -0500 (Sun, 02 Feb 2025) EndedAt: 2025-02-02 15:36:01 -0500 (Sun, 02 Feb 2025) EllapsedTime: 31.1 seconds RetCode: 0 Status: OK