Package: maPredictDSC Version: 1.45.0 Command: /Library/Frameworks/R.framework/Resources/bin/R CMD build --keep-empty-dirs --no-resave-data maPredictDSC StartedAt: 2025-02-02 17:09:59 -0500 (Sun, 02 Feb 2025) EndedAt: 2025-02-02 17:11:26 -0500 (Sun, 02 Feb 2025) EllapsedTime: 87.0 seconds RetCode: 0 Status: OK PackageFile: maPredictDSC_1.45.0.tar.gz PackageFileSize: 196.7 KiB