Package: maPredictDSC Version: 1.45.0 Command: /home/biocbuild/R/R/bin/R CMD build --keep-empty-dirs --no-resave-data maPredictDSC StartedAt: 2025-01-28 23:59:36 -0000 (Tue, 28 Jan 2025) EndedAt: 2025-01-29 00:01:32 -0000 (Wed, 29 Jan 2025) EllapsedTime: 116.0 seconds RetCode: 0 Status: OK PackageFile: maPredictDSC_1.45.0.tar.gz PackageFileSize: 200.3 KiB