Package: maPredictDSC Version: 1.45.0 Command: /Library/Frameworks/R.framework/Resources/bin/R CMD INSTALL maPredictDSC StartedAt: 2025-02-05 15:23:43 -0500 (Wed, 05 Feb 2025) EndedAt: 2025-02-05 15:23:51 -0500 (Wed, 05 Feb 2025) EllapsedTime: 8.7 seconds RetCode: 0 Status: OK