Package: maPredictDSC Version: 1.45.0 Command: /Library/Frameworks/R.framework/Resources/bin/R CMD check --install=check:maPredictDSC.install-out.txt --library=/Library/Frameworks/R.framework/Resources/library --no-vignettes --timings maPredictDSC_1.45.0.tar.gz StartedAt: 2025-02-10 19:56:16 -0500 (Mon, 10 Feb 2025) EndedAt: 2025-02-10 19:57:42 -0500 (Mon, 10 Feb 2025) EllapsedTime: 86.1 seconds RetCode: 0 Status: OK CheckDir: maPredictDSC.Rcheck Warnings: 0