Package: maCorrPlot Version: 1.79.0 Command: /Library/Frameworks/R.framework/Resources/bin/R CMD INSTALL maCorrPlot StartedAt: 2025-05-08 15:04:38 -0400 (Thu, 08 May 2025) EndedAt: 2025-05-08 15:05:10 -0400 (Thu, 08 May 2025) EllapsedTime: 32.0 seconds RetCode: 0 Status: OK