Package: maCorrPlot Version: 1.79.0 Command: rm -rf maCorrPlot.buildbin-libdir && mkdir maCorrPlot.buildbin-libdir && /Users/biocbuild/BBS/utils/build-universal.sh maCorrPlot_1.79.0.tar.gz /Library/Frameworks/R.framework/Resources/bin/R maCorrPlot.buildbin-libdir StartedAt: 2025-05-10 00:53:43 -0400 (Sat, 10 May 2025) EndedAt: 2025-05-10 00:53:50 -0400 (Sat, 10 May 2025) EllapsedTime: 7.0 seconds RetCode: 0 Status: OK PackageFile: maCorrPlot_1.79.0.tgz PackageFileSize: 1.168 MiB