Package: mCSEA Version: 1.29.0 Command: /Library/Frameworks/R.framework/Resources/bin/R CMD check --install=check:mCSEA.install-out.txt --library=/Library/Frameworks/R.framework/Resources/library --no-vignettes --timings mCSEA_1.29.0.tar.gz StartedAt: 2025-05-02 21:36:58 -0400 (Fri, 02 May 2025) EndedAt: 2025-05-02 21:43:20 -0400 (Fri, 02 May 2025) EllapsedTime: 381.9 seconds RetCode: 0 Status: OK CheckDir: mCSEA.Rcheck Warnings: 0