Package: mCSEA Version: 1.29.0 Command: /Library/Frameworks/R.framework/Resources/bin/R CMD check --install=check:mCSEA.install-out.txt --library=/Library/Frameworks/R.framework/Resources/library --no-vignettes --timings mCSEA_1.29.0.tar.gz StartedAt: 2025-05-06 20:25:22 -0400 (Tue, 06 May 2025) EndedAt: 2025-05-06 20:28:02 -0400 (Tue, 06 May 2025) EllapsedTime: 160.0 seconds RetCode: 0 Status: OK CheckDir: mCSEA.Rcheck Warnings: 0