Package: mCSEA Version: 1.29.0 Command: /Library/Frameworks/R.framework/Resources/bin/R CMD build --keep-empty-dirs --no-resave-data mCSEA StartedAt: 2025-05-06 16:51:14 -0400 (Tue, 06 May 2025) EndedAt: 2025-05-06 16:52:50 -0400 (Tue, 06 May 2025) EllapsedTime: 96.2 seconds RetCode: 0 Status: OK PackageFile: mCSEA_1.29.0.tar.gz PackageFileSize: 1.87 MiB