Package: mBPCR Version: 1.61.0 Command: /home/biocbuild/R/R/bin/R CMD build --keep-empty-dirs --no-resave-data mBPCR StartedAt: 2025-01-29 00:03:26 -0000 (Wed, 29 Jan 2025) EndedAt: 2025-01-29 00:04:46 -0000 (Wed, 29 Jan 2025) EllapsedTime: 80.0 seconds RetCode: 0 Status: OK PackageFile: mBPCR_1.61.0.tar.gz PackageFileSize: 844 KiB