Package: mBPCR Version: 1.61.0 Command: /Library/Frameworks/R.framework/Resources/bin/R CMD INSTALL mBPCR StartedAt: 2025-02-03 15:58:07 -0500 (Mon, 03 Feb 2025) EndedAt: 2025-02-03 15:58:19 -0500 (Mon, 03 Feb 2025) EllapsedTime: 12.1 seconds RetCode: 0 Status: OK