Package: m6Aboost Version: 1.15.1 Command: rm -rf m6Aboost.buildbin-libdir && mkdir m6Aboost.buildbin-libdir && F:\biocbuild\bbs-3.22-bioc\R\bin\R.exe CMD INSTALL --build --library=m6Aboost.buildbin-libdir m6Aboost_1.15.1.tar.gz StartedAt: 2025-08-15 10:36:29 -0400 (Fri, 15 Aug 2025) EndedAt: 2025-08-15 10:37:32 -0400 (Fri, 15 Aug 2025) EllapsedTime: 63.6 seconds RetCode: 0 Status: OK PackageFile: m6Aboost_1.15.1.zip PackageFileSize: 578.5 KiB