Package: looking4clusters Version: 0.99.4 Command: /home/biocbuild/bbs-3.22-bioc/R/bin/R CMD INSTALL looking4clusters StartedAt: 2025-10-07 15:24:09 -0400 (Tue, 07 Oct 2025) EndedAt: 2025-10-07 15:24:11 -0400 (Tue, 07 Oct 2025) EllapsedTime: 1.7 seconds RetCode: 0 Status: OK