Package: looking4clusters Version: 0.99.4 Command: /home/biocbuild/bbs-3.22-bioc/R/bin/R CMD build --keep-empty-dirs --no-resave-data --md5 looking4clusters StartedAt: 2025-10-07 18:26:05 -0400 (Tue, 07 Oct 2025) EndedAt: 2025-10-07 18:27:49 -0400 (Tue, 07 Oct 2025) EllapsedTime: 104.2 seconds RetCode: 0 Status: OK PackageFile: looking4clusters_0.99.4.tar.gz PackageFileSize: 1.593 MiB