Package: looking4clusters Version: 1.1.0 Command: /home/biocbuild/bbs-3.23-bioc/R/bin/R CMD INSTALL looking4clusters StartedAt: 2025-11-05 15:31:47 -0500 (Wed, 05 Nov 2025) EndedAt: 2025-11-05 15:31:49 -0500 (Wed, 05 Nov 2025) EllapsedTime: 1.7 seconds RetCode: 0 Status: OK