Package: looking4clusters Version: 1.1.0 Command: /home/biocbuild/bbs-3.23-bioc/R/bin/R CMD build --keep-empty-dirs --no-resave-data looking4clusters StartedAt: 2025-11-05 18:24:27 -0500 (Wed, 05 Nov 2025) EndedAt: 2025-11-05 18:26:09 -0500 (Wed, 05 Nov 2025) EllapsedTime: 102.1 seconds RetCode: 0 Status: OK PackageFile: looking4clusters_1.1.0.tar.gz PackageFileSize: 1.591 MiB