Package: looking4clusters Version: 0.99.4 Command: /Library/Frameworks/R.framework/Resources/bin/R CMD INSTALL looking4clusters StartedAt: 2025-10-14 15:15:53 -0400 (Tue, 14 Oct 2025) EndedAt: 2025-10-14 15:15:55 -0400 (Tue, 14 Oct 2025) EllapsedTime: 1.4 seconds RetCode: 0 Status: OK