Package: looking4clusters Version: 0.99.4 Command: /Library/Frameworks/R.framework/Resources/bin/R CMD build --keep-empty-dirs --no-resave-data looking4clusters StartedAt: 2025-10-14 16:50:29 -0400 (Tue, 14 Oct 2025) EndedAt: 2025-10-14 16:51:13 -0400 (Tue, 14 Oct 2025) EllapsedTime: 43.5 seconds RetCode: 0 Status: OK PackageFile: looking4clusters_0.99.4.tar.gz PackageFileSize: 1.591 MiB