Package: logicFS Version: 2.29.0 Command: /Library/Frameworks/R.framework/Resources/bin/R CMD INSTALL logicFS StartedAt: 2025-05-07 15:03:25 -0400 (Wed, 07 May 2025) EndedAt: 2025-05-07 15:03:32 -0400 (Wed, 07 May 2025) EllapsedTime: 6.8 seconds RetCode: 0 Status: OK