Package: logicFS Version: 2.29.0 Command: /Library/Frameworks/R.framework/Resources/bin/R CMD check --install=check:logicFS.install-out.txt --library=/Library/Frameworks/R.framework/Resources/library --no-vignettes --timings logicFS_2.29.0.tar.gz StartedAt: 2025-05-08 20:18:51 -0400 (Thu, 08 May 2025) EndedAt: 2025-05-08 20:19:18 -0400 (Thu, 08 May 2025) EllapsedTime: 26.3 seconds RetCode: 0 Status: OK CheckDir: logicFS.Rcheck Warnings: 0