Package: loci2path Version: 1.29.1 Command: chmod a+r loci2path -R && F:\biocbuild\bbs-3.22-bioc\R\bin\R.exe CMD build --keep-empty-dirs --no-resave-data loci2path StartedAt: 2025-08-14 21:09:19 -0400 (Thu, 14 Aug 2025) EndedAt: 2025-08-14 21:10:08 -0400 (Thu, 14 Aug 2025) EllapsedTime: 49.1 seconds RetCode: 0 Status: OK PackageFile: loci2path_1.29.1.tar.gz PackageFileSize: 532.4 KiB