Package: loci2path Version: 1.29.0 Command: /Library/Frameworks/R.framework/Resources/bin/R CMD check --install=check:loci2path.install-out.txt --library=/Library/Frameworks/R.framework/Resources/library --no-vignettes --timings loci2path_1.29.0.tar.gz StartedAt: 2025-05-08 21:32:20 -0400 (Thu, 08 May 2025) EndedAt: 2025-05-08 21:34:04 -0400 (Thu, 08 May 2025) EllapsedTime: 103.1 seconds RetCode: 0 Status: OK CheckDir: loci2path.Rcheck Warnings: 0