Package: loci2path Version: 1.29.0 Command: rm -rf loci2path.buildbin-libdir && mkdir loci2path.buildbin-libdir && /Users/biocbuild/BBS/utils/build-universal.sh loci2path_1.29.0.tar.gz /Library/Frameworks/R.framework/Resources/bin/R loci2path.buildbin-libdir StartedAt: 2025-05-09 00:51:13 -0400 (Fri, 09 May 2025) EndedAt: 2025-05-09 00:51:33 -0400 (Fri, 09 May 2025) EllapsedTime: 19.7 seconds RetCode: 0 Status: OK PackageFile: loci2path_1.29.0.tgz PackageFileSize: 805.8 KiB