Package: loci2path Version: 1.29.0 Command: /Library/Frameworks/R.framework/Resources/bin/R CMD INSTALL loci2path StartedAt: 2025-04-30 15:10:33 -0400 (Wed, 30 Apr 2025) EndedAt: 2025-04-30 15:10:38 -0400 (Wed, 30 Apr 2025) EllapsedTime: 5.5 seconds RetCode: 0 Status: OK