Package: loci2path Version: 1.29.0 Command: /Library/Frameworks/R.framework/Resources/bin/R CMD build --keep-empty-dirs --no-resave-data loci2path StartedAt: 2025-05-01 16:45:55 -0400 (Thu, 01 May 2025) EndedAt: 2025-05-01 16:46:04 -0400 (Thu, 01 May 2025) EllapsedTime: 9.1 seconds RetCode: 0 Status: OK PackageFile: loci2path_1.29.0.tar.gz PackageFileSize: 609.4 KiB