Package: lmdme Version: 1.51.0 Command: rm -rf lmdme.buildbin-libdir && mkdir lmdme.buildbin-libdir && F:\biocbuild\bbs-3.22-bioc\R\bin\R.exe CMD INSTALL --build --library=lmdme.buildbin-libdir lmdme_1.51.0.tar.gz StartedAt: 2025-08-15 10:35:41 -0400 (Fri, 15 Aug 2025) EndedAt: 2025-08-15 10:36:02 -0400 (Fri, 15 Aug 2025) EllapsedTime: 21.2 seconds RetCode: 0 Status: OK PackageFile: lmdme_1.51.0.zip PackageFileSize: 735.1 KiB