Package: lmdme Version: 1.51.0 Command: rm -rf lmdme.buildbin-libdir && mkdir lmdme.buildbin-libdir && /Users/biocbuild/BBS/utils/build-universal.sh lmdme_1.51.0.tar.gz /Library/Frameworks/R.framework/Resources/bin/R lmdme.buildbin-libdir StartedAt: 2025-05-28 00:46:02 -0400 (Wed, 28 May 2025) EndedAt: 2025-05-28 00:46:10 -0400 (Wed, 28 May 2025) EllapsedTime: 8.1 seconds RetCode: 0 Status: OK PackageFile: lmdme_1.51.0.tgz PackageFileSize: 731.8 KiB