Package: lipidr Version: 2.21.0 Command: /home/biocbuild/R/R/bin/R CMD INSTALL lipidr StartedAt: 2025-01-29 20:29:42 -0000 (Wed, 29 Jan 2025) EndedAt: 2025-01-29 20:30:22 -0000 (Wed, 29 Jan 2025) EllapsedTime: 39.7 seconds RetCode: 0 Status: OK